BEGIN:VCALENDAR
VERSION:2.0
PRODID:-//Squarespace Inc/Squarespace 6//v6//EN
BEGIN:VEVENT
UID:59b87d8232601e9f3a73cc74@squarespace.com
DTSTAMP:20170913T030736Z
DTSTART:20171008T170000Z
DTEND:20171008T200000Z
SUMMARY:International Rosé Masterclass
GEO:-37.917806;145.031943
LOCATION:Wolfe & Molone\, 282 Centre Road\, Bentleigh\, VIC\, 3204\, Austra
 lia
END:VEVENT
END:VCALENDAR
