BEGIN:VCALENDAR
VERSION:2.0
PRODID:-//Squarespace Inc/Squarespace 6//v6//EN
BEGIN:VEVENT
UID:5a8a70328165f58a19ad3e0c@squarespace.com
DTSTAMP:20180617T034956Z
DTSTART:20180703T220000Z
DTEND:20180704T020000Z
SUMMARY:Jazz Nights Vol II
GEO:-37.917806;145.031943
LOCATION:Wolfe & Molone\, 282 Centre Road\, Bentleigh\, VIC\, 3204\, Austra
 lia
END:VEVENT
END:VCALENDAR
