BEGIN:VCALENDAR
VERSION:2.0
PRODID:-//Squarespace Inc/Squarespace 6//v6//EN
BEGIN:VEVENT
UID:5ad479326d2a73331c8c2840@squarespace.com
DTSTAMP:20180417T003843Z
DTSTART:20180505T160000Z
DTEND:20180505T200000Z
SUMMARY:Behind the Wine - Winemakers Series - Naoussa (Greece)
GEO:-37.917806;145.031943
LOCATION:Wolfe & Molone\, 282 Centre Road\, Bentleigh\, VIC\, 3204\, Austra
 lia
END:VEVENT
END:VCALENDAR
