BEGIN:VCALENDAR
VERSION:2.0
PRODID:-//Squarespace Inc/Squarespace 6//v6//EN
BEGIN:VEVENT
UID:5c6386c9e2c483b6486ab265@squarespace.com
DTSTAMP:20190213T031407Z
DTSTART:20190313T230000Z
DTEND:20190314T020000Z
SUMMARY:Behind The Wine - Winemakers Dinner Series with Unico Zelo
GEO:-37.917806;145.031943
LOCATION:Wolfe & Molone\, 282 Centre Rd\, Bentleigh\, Australia
END:VEVENT
END:VCALENDAR
