BEGIN:VCALENDAR
VERSION:2.0
PRODID:-//Squarespace Inc/Squarespace 6//v6//EN
BEGIN:VEVENT
UID:5b4fc268758d46506ec20028@squarespace.com
DTSTAMP:20180719T025030Z
DTSTART:20180819T170000Z
DTEND:20180819T190000Z
SUMMARY:Prosecco Masterclass 
GEO:-37.917806;145.031943
LOCATION:Wolfe & Molone\, 282 Centre Road\, Bentleigh\, VIC\, 3204\, Austra
 lia
END:VEVENT
END:VCALENDAR
