BEGIN:VCALENDAR
VERSION:2.0
PRODID:-//Squarespace Inc/Squarespace 6//v6//EN
BEGIN:VEVENT
UID:5b4ffcb2aa4a99a4f7254916@squarespace.com
DTSTAMP:20180719T025429Z
DTSTART:20180719T030000Z
DTEND:20180719T040000Z
SUMMARY:Soul Session Sunday's
GEO:-37.917806;145.031943
LOCATION:Wolfe & Molone\, 282 Centre Road\, Bentleigh\, VIC\, 3204\, Austra
 lia
END:VEVENT
END:VCALENDAR
