BEGIN:VCALENDAR
VERSION:2.0
PRODID:-//Squarespace Inc/Squarespace 6//v6//EN
BEGIN:VEVENT
UID:5b25d6d18a922d27105481b1@squarespace.com
DTSTAMP:20180617T044855Z
DTSTART:20180710T230000Z
DTEND:20180711T020000Z
SUMMARY:Behind The Wine Wine Makers Series - Villa Trasqua (Tuscany)
GEO:-37.917806;145.031943
LOCATION:Wolfe & Molone\, 282 Centre Road\, Bentleigh\, VIC\, 3204\, Austra
 lia
END:VEVENT
END:VCALENDAR
