BEGIN:VCALENDAR
VERSION:2.0
PRODID:-//Squarespace Inc/Squarespace 6//v6//EN
BEGIN:VEVENT
UID:5ad47420352f53c87a5010a8@squarespace.com
DTSTAMP:20180617T034912Z
DTSTART:20180624T210000Z
DTEND:20180625T010000Z
SUMMARY:Soul Session Sundays
GEO:-37.917806;145.031943
LOCATION:Wolfe & Molone\, 282 Centre Road\, Bentleigh\, VIC\, 3204\, Austra
 lia
END:VEVENT
END:VCALENDAR
