BEGIN:VCALENDAR
VERSION:2.0
PRODID:-//Squarespace Inc/Squarespace 6//v6//EN
BEGIN:VEVENT
UID:59743472d1758e2554a81e2d@squarespace.com
DTSTAMP:20170727T063734Z
DTSTART:20170822T233000Z
DTEND:20170823T023000Z
SUMMARY:Behind The Wine - Winemakers Dinner Series
GEO:-37.917806;145.031943
LOCATION:Wolfe & Molone\, 282 Centre Road\, Bentleigh\, VIC\, 3204\, Austra
 lia
END:VEVENT
END:VCALENDAR
