BEGIN:VCALENDAR
VERSION:2.0
PRODID:-//Squarespace Inc/Squarespace 6//v6//EN
BEGIN:VEVENT
UID:595ef238440243558a6fb434@squarespace.com
DTSTAMP:20170730T013012Z
DTSTART:20170730T170000Z
DTEND:20170730T190000Z
SUMMARY:France in 120 Minutes Masterclass - SOLD OUT
GEO:-37.917806;145.031943
LOCATION:Wolfe & Molone\, 282 Centre Road\, Bentleigh\, VIC\, 3204\, Austra
 lia
END:VEVENT
END:VCALENDAR
