BEGIN:VCALENDAR
VERSION:2.0
PRODID:-//Squarespace Inc/Squarespace 6//v6//EN
BEGIN:VEVENT
UID:59ed438e268b96271d22c3b9@squarespace.com
DTSTAMP:20171114T021416Z
DTSTART:20171129T000000Z
DTEND:20171129T033000Z
SUMMARY:Behind The Wine - Winemakers Dinner - Domaine Costa Lazaridi (GRE) 
 - SOLD OUT
GEO:-37.917806;145.031943
LOCATION:Wolfe & Molone\, 282 Centre Road\, Bentleigh\, VIC\, 3204\, Austra
 lia
END:VEVENT
END:VCALENDAR
