BEGIN:VCALENDAR
VERSION:2.0
PRODID:-//Squarespace Inc/Squarespace 6//v6//EN
BEGIN:VEVENT
UID:59c1dfbfd55b416389465964@squarespace.com
DTSTAMP:20170920T041353Z
DTSTART:20171015T170000Z
DTEND:20171015T200000Z
SUMMARY:Stomping Ground Brewing Co. Tap Takeover & Craft Beer Masterclass
GEO:-37.917806;145.031943
LOCATION:wolfe & Molone\, 282 Centre Road\, Bentleigh\, VIC\, 3204\, Austra
 lia
END:VEVENT
END:VCALENDAR
